BEGIN:VCALENDAR
VERSION:2.0
PRODID:-//eavo - ECPv6.15.14//NONSGML v1.0//EN
CALSCALE:GREGORIAN
METHOD:PUBLISH
X-WR-CALNAME:eavo
X-ORIGINAL-URL:https://www.eavo.de
X-WR-CALDESC:Veranstaltungen für eavo
REFRESH-INTERVAL;VALUE=DURATION:PT1H
X-Robots-Tag:noindex
X-PUBLISHED-TTL:PT1H
BEGIN:VTIMEZONE
TZID:Europe/Berlin
BEGIN:DAYLIGHT
TZOFFSETFROM:+0100
TZOFFSETTO:+0200
TZNAME:CEST
DTSTART:20250330T010000
END:DAYLIGHT
BEGIN:STANDARD
TZOFFSETFROM:+0200
TZOFFSETTO:+0100
TZNAME:CET
DTSTART:20251026T010000
END:STANDARD
BEGIN:DAYLIGHT
TZOFFSETFROM:+0100
TZOFFSETTO:+0200
TZNAME:CEST
DTSTART:20260329T010000
END:DAYLIGHT
BEGIN:STANDARD
TZOFFSETFROM:+0200
TZOFFSETTO:+0100
TZNAME:CET
DTSTART:20261025T010000
END:STANDARD
BEGIN:DAYLIGHT
TZOFFSETFROM:+0100
TZOFFSETTO:+0200
TZNAME:CEST
DTSTART:20270328T010000
END:DAYLIGHT
BEGIN:STANDARD
TZOFFSETFROM:+0200
TZOFFSETTO:+0100
TZNAME:CET
DTSTART:20271031T010000
END:STANDARD
END:VTIMEZONE
BEGIN:VEVENT
DTSTART;TZID=Europe/Berlin:20260422T200000
DTEND;TZID=Europe/Berlin:20260422T230000
DTSTAMP:20260422T122432
CREATED:20260222T212702Z
LAST-MODIFIED:20260416T103511Z
UID:10003014-1776888000-1776898800@www.eavo.de
SUMMARY:Modern Love Köln - 80s-Frühparty // New Wave\, Synth & Pop mit eavo im Tsunami Club
DESCRIPTION:🎉 Die Modern Love-Frühparty (20:00–23:00) steht für astreinen 80s Synth\, New Wave\, Pop und ein bisschen 80er-Indie – von den Smashhits bis zu echten Geheimtipps. Keine 08/15-80er-Party\, sondern Übergänge\, die sitzen\, Versionen\, die passen und ein Flow\, der jeden Abend neu entsteht. \n😻 Ach so\, mein Name ist eavo. Ich bin schon seit vielen Jahren in den schönsten Clubs in ganz Deutschland unterwegs.\nWenn ihr Ideen oder Fragen habt\, sprecht mich gern an oder schickt mir ne Nachricht. Musikvorschläge sind willkommen\, denn ich hab Spaß daran\, eure Ideen – wenn’s passt – ins Set zu puzzlen. \n💃🏼 Wenn ihr mitmacht\, wird’s ne überragende Party\, klebriger Fußboden und durchtanzte Schuhe inklusive. \nKommt vorbei! Jeden vierten Mittwoch im Monat. Der Eintritt beträgt schlappe 6€. \nModern Love klingt wie:\nA Flock of Seagulls – a-ha – ABC – Alphaville – The B-52’s – The Bangles – Pat Benatar – Bauhaus – Berlin – Blondie – B-Movie – Boytronic – Laura Branigan – Bronski Beat – David Bowie – Kate Bush – Cameo – Kim Carnes – Camouflage – Anne Clark – The Communards – Culture Club – The Cure – Dead or Alive – Depeche Mode – Desireless – Duran Duran – Erasure – Eurythmics – Falco – Fehlfarben – Fine Young Cannibals – Fischer-Z – The Flirts – Freeez – Gang of Four – Grauzone – Murray Head – Heaven 17 – Don Henley – Billy Idol – Howard Jones – The Housemartins – The Human League – Icehouse – Ideal – Indochine – INXS – The Jam – Japan –Joy Division – Kajagoogoo – Nik Kershaw – King – Cyndi Lauper – Lene Lovich – Level 42 – Les Rita Mitsouko – Madness – Martha And The Muffins – Men At Work – Men Without Hats – Miami Sound Machine – Midnight Oil – New Model Army – New Order – Nichts – OMD – Pet Shop Boys – Pixies – The Police – Prince – The Primitives – The Proclaimers – Queen – R.E.M. – Rainbirds – Real Life – Rheingold – Michael Sembello – Simple Minds – Siouxsie And The Banshees – Soft Cell – Spandau Ballet – Talk Talk – Talking Heads – Tears for Fears – Toto – Trans X – Trio – Tina Turner – U2 – Ultravox – Violent Femmes – Visage – Wham! – Kim Wilde – Yazoo – Yello \nMehr Infos inkl. Spotify-Listen auf www.eavo.de/modernlove/\nwww.facebook.com/neinmaschine\nwww.instagram.com/__eavo__ \nAK: 6€
URL:https://www.eavo.de/event/modern-love-koeln-80s-fruehparty-new-wave-synth-pop-mit-eavo-im-tsunami-club-8/
LOCATION:Tsunami Club
CATEGORIES:80s,Club,Köln
ATTACH;FMTTYPE=image/jpeg:https://www.eavo.de/wp-content/uploads/2026/02/39016_image_641273685_1748410323175148_3649663104544807828_n.jpg
END:VEVENT
END:VCALENDAR